BEGIN:VCALENDAR
VERSION:2.0
PRODID:-//Judo-Region Weser-Leine-Bergland - ECPv6.15.20//NONSGML v1.0//EN
CALSCALE:GREGORIAN
METHOD:PUBLISH
X-ORIGINAL-URL:https://judo-region.de
X-WR-CALDESC:Veranstaltungen für Judo-Region Weser-Leine-Bergland
REFRESH-INTERVAL;VALUE=DURATION:PT1H
X-Robots-Tag:noindex
X-PUBLISHED-TTL:PT1H
BEGIN:VTIMEZONE
TZID:Europe/Berlin
BEGIN:DAYLIGHT
TZOFFSETFROM:+0100
TZOFFSETTO:+0200
TZNAME:CEST
DTSTART:20250330T010000
END:DAYLIGHT
BEGIN:STANDARD
TZOFFSETFROM:+0200
TZOFFSETTO:+0100
TZNAME:CET
DTSTART:20251026T010000
END:STANDARD
BEGIN:DAYLIGHT
TZOFFSETFROM:+0100
TZOFFSETTO:+0200
TZNAME:CEST
DTSTART:20260329T010000
END:DAYLIGHT
BEGIN:STANDARD
TZOFFSETFROM:+0200
TZOFFSETTO:+0100
TZNAME:CET
DTSTART:20261025T010000
END:STANDARD
BEGIN:DAYLIGHT
TZOFFSETFROM:+0100
TZOFFSETTO:+0200
TZNAME:CEST
DTSTART:20270328T010000
END:DAYLIGHT
BEGIN:STANDARD
TZOFFSETFROM:+0200
TZOFFSETTO:+0100
TZNAME:CET
DTSTART:20271031T010000
END:STANDARD
END:VTIMEZONE
BEGIN:VEVENT
DTSTART;TZID=Europe/Berlin:20260207T000000
DTEND;TZID=Europe/Berlin:20260207T235959
DTSTAMP:20260419T151505
CREATED:20251210T230656Z
LAST-MODIFIED:20251210T230814Z
UID:421-1770422400-1770508799@judo-region.de
SUMMARY:3. Elzer Randori-Turnier
DESCRIPTION:Teilnehmer: Mädchen und Jungen der Jahrgänge 2014-2019; wettkampfunerfahrene Judoka ab 8. Kyu nach alter PO sowie – nach Ermessen der Trainer*innen – gern auch ab 8. Kyu nach neuer PO\, bis maximal 6. Kyu. Judoka aus dem BFV Hannover \nZeitplan: Samstag\, den 07.02.2026 – Die Einteilung und die genauen Zeiten werden erst nach Meldeschluss bekannt gegeben. \nModus: Es werden bis zu 8 Matten à 3×3 ausgelegt. Jedes Kind sucht sich selbständig seine Randori-Partner. Nach jedem Randori gibt es einen Stempel auf eine Karte. Am Ende bekommen alle Teilnehmenden Urkunden mit der Anzahl der absolvierten Randori und eine Erinnerungsmedaille. \nMeldegeld: 5 € pro Teilnehmer bitte vereinsweise bis Meldeschluss überweisen an: MTV Elze e.V.\, SWIFT-BIC: NOLADE21HIK (Sparkasse Hildesheim)\, IBAN: DE50 2595 0130 0000 9371 02 \nMeldungen: Vereinsweise unter Angabe des Namens und Jahrgangs per Email an: habenix@t-online.de (Annika Hurnaus)\, Tel.: 0162/2461163\, Bitte gebt bei der Meldung auch das grobe Gewicht mit an; ggf. ist dies für die Zeiteinteilung wichtig. \nMeldeschluss: 30.01.2026 \nAnfahrt: Die Astrid-Lindgren-Schule befindet sich am Heilswannenweg 24. Es kann sowohl vor als auch links von der Schule geparkt werden. Die Sporthalle befindet sich direkt hinter der Grundschule (Zugang über den Schulhof). \nHaftung: Die Teilnehmer müssen für Unfall- und Haftpflichtversicherung selbst Sorge tragen. Der Ausrichter übernimmt keinerlei Haftung. \nSonstiges: Die Halle darf nur mit Hallenschuhen betreten werden. \nDatenschutz: Gemeldete Kämpfer erklären sich mit der Meldung und der damit verbundenen öffentlichen Teilnahme an dem Turnier dazu bereit\, dass Daten im Rahmen der Ergebnisveröffentlichung im Internet sowie anderen Medien mit Namen\, Platzierung\, Gewicht und Jahrgang erscheinen werden. Ein Widerspruch führt automatisch zum Ausschluss des Kämpfers. \n\n\n  \n\n\nBitte beachten Sie auch die Details in der Ausschreibung.
URL:https://judo-region.de/veranstaltung/3-elzer-randori-turnier/
LOCATION:Sporthalle der Astrid-Lindgren-Schule\, Heilswannenweg 24\, Elze\, Niedersachsen\, 31008
CATEGORIES:randori,turnier
ORGANIZER;CN="MTV Elze":MAILTO:dorthe.schroeder@judo-region.de
END:VEVENT
BEGIN:VEVENT
DTSTART;TZID=Europe/Berlin:20260228T083000
DTEND;TZID=Europe/Berlin:20260228T163000
DTSTAMP:20260419T151505
CREATED:20260210T171902Z
LAST-MODIFIED:20260228T075808Z
UID:486-1772267400-1772296200@judo-region.de
SUMMARY:RMM U13
DESCRIPTION:Wiegezeiten: 12:30 bis 13:00 Uhr (sofern nicht bereits am Morgen gewogen)\nAlle Judoka werden einheitlich in Judohose und T-Shirt gewogen. (500g Toleranz).\nTeilnehmer der REM müssen nicht erneut gewogen werden – bitte bei der Meldung den Doppelstart vermerken. \nKampfbeginn: im Anschluss an die REM U11 \nTeilnehmer: Judoka der Altersklasse U13\nJahrgang: 2017\, 2016 2015\, 2014 (ab 7. Kyu)\nGewichtsklassen: -31\, -34\, -37\, -40\, -44\, -48\, +48 \nModus: Mannschaften können sich als Kampfgemeinschaften (KG) frei zusammensetzen.\nBei Fremdstartern ist eine Freigabe an der Waage vorzulegen.\nNach NJV Wettkampfordnung. \nMeldungen: mannschaftsweise an meldung@judo-region.de \nMeldeschluss: 18.02.2026 \nMeldegeld: 60 € pro Mannschaft\, mannschaftsweise zu zahlen an:\nNiedersächsischer Judo-Verband e.V.\nDE 76 2501 0030 0573 9743 07 (Postbank)\nBei Nachmeldung erhöht sich das Meldegeld um 2\,50 € \nKampfrichter: Judo-Region Weser-Leine-Bergland \nWettkampfleitung: SV Victoria Lauenau \nDatenschutz: Gemeldete Kämpfer erklären sich mit der Meldung und der damit verbundenen öffentlichen Teilnahme an der Meisterschaft bereit\, dass Daten zwecks der Weitermeldung an höhere Ebenen weitergegeben und im Rahmen der Ergebnisveröffentlichung im Internet\, sowie anderen Medien mit Namen\, Platzierung\, Gewichtsklasse und Jahrgang erscheinen werden. \nHinweis: Es befindet sich ein weiterer Parkplatz auf der anderen Gebäudeseite. \n\n\nDie BMM + LMM U13 sind offen. Entsprechend findet keine Qualifikation statt und die Mannschaften können sich zur BMM neu zusammensetzen. (gem. WKO NJV)\n\n\n  \nBitte beachten Sie auch die Details in der Ausschreibung.
URL:https://judo-region.de/veranstaltung/rmm-u13-2026-02/
LOCATION:Victoria Dojo Lauenau\, Carl-Sasse-Straße 3-5\, Lauenau\, Niedersachsen\, 31867
CATEGORIES:rmm,turnier
ORGANIZER;CN="Judo-Region Weser-Leine-Bergland":MAILTO:meldung@judo-region.de
END:VEVENT
END:VCALENDAR